BEGIN:VCALENDAR
VERSION:2.0
PRODID:-//Ziacom Medical - ECPv6.10.2//NONSGML v1.0//EN
CALSCALE:GREGORIAN
METHOD:PUBLISH
X-ORIGINAL-URL:https://test.ziacom.com
X-WR-CALDESC:Eventos para Ziacom Medical
REFRESH-INTERVAL;VALUE=DURATION:PT1H
X-Robots-Tag:noindex
X-PUBLISHED-TTL:PT1H
BEGIN:VTIMEZONE
TZID:Europe/Madrid
BEGIN:DAYLIGHT
TZOFFSETFROM:+0100
TZOFFSETTO:+0200
TZNAME:CEST
DTSTART:20220327T010000
END:DAYLIGHT
BEGIN:STANDARD
TZOFFSETFROM:+0200
TZOFFSETTO:+0100
TZNAME:CET
DTSTART:20221030T010000
END:STANDARD
END:VTIMEZONE
BEGIN:VEVENT
DTSTART;VALUE=DATE:20220325
DTEND;VALUE=DATE:20220327
DTSTAMP:20260424T235103
CREATED:20220125T160636Z
LAST-MODIFIED:20220721T081100Z
UID:90165-1648166400-1648339199@test.ziacom.com
SUMMARY:Expodental 2022. Presentación de Titansure Active con el Dr. Maher Atari.
DESCRIPTION:En la próxima edición de Expodental\, conoce todo sobre nuestro tratamiento de superficie Titansure Active de la mano de Maher Atari\, cirujano dental\, colaborador de Ziacom y uno de los creadores del BBL\, componente esencial de Titansure Active.\nTitansure Active nace de la combinación de nuestro tratamiento superficial Titansure con la revolucionaria tecnología BBL (Bone Bioactive Liquid)\, patente adquirida por Ziazom y desarrollada por el grupo de investigación de Biointelligent Technology Systems S.L. \nMás detalles en la charla: \nPabellón 10\, Stand 10F04.  \n Dr. Maher Atari. \n 25 de marzo de 2022 de 12:00h-12:30h. \n 26 de marzo de 2022 de 11:00h-11:30h. \nDr. Maher Atari: profesor\, investigador y especialista en cirugía oral y maxilofacial\nAdemás de un cirujano especializado y con experiencia\, Maher Al-Atari es además profesor e investigador en la Facultad de Odontología de la Universitat Internacional de Catalunya (UIC)\, donde lleva a cabo varias líneas de investigación relacionadas con la reparación de las piezas dentales y de la estructura y regeneración ósea.  \nDesde 2016 ostenta varias patentes de biomateriales\, entre las que se encuentra el BBL (Bone Bioactive Liquid)\, un líquido que favorece la regeneración de hueso y encía.
URL:https://test.ziacom.com/actividad/expodental-2022-titansure-active-maher/
LOCATION:Recinto Ferial IFEMA MADRID\, Av. del Partenón\, 5\, Madrid\, Madrid\, 28042\, España
CATEGORIES:Evento
ATTACH;FMTTYPE=image/png:https://test.ziacom.com/wp-content/uploads/2022/01/maher.png
ORGANIZER;CN="Ziacom":MAILTO:info@ziacom.com
END:VEVENT
BEGIN:VEVENT
DTSTART;TZID=Europe/Madrid:20220324T100000
DTEND;TZID=Europe/Madrid:20220326T180000
DTSTAMP:20260424T235103
CREATED:20220126T105109Z
LAST-MODIFIED:20220310T082132Z
UID:90188-1648116000-1648317600@test.ziacom.com
SUMMARY:Expodental 2022
DESCRIPTION:La nueva convocatoria de esta gran feria\, que se ha convertido en una cita de referencia para el sector\,  reunirá\, un año más\, a profesionales y compañías de la industria dental de todo el mundo. \nEn ella se presentará una amplia oferta de productos y novedades en:  \n\nEquipamiento y mobiliario de clínicas y laboratorios protésicos. \nConsumo e instrumental de clínica. \nConsumo e instrumental de prótesis.\nImplantología.\nOrtodoncia.\nServicios e informática. \n\nPara Ziacom\, esta es una edición muy especial\, ya que hemos preparado una agenda llena de cambios y nuevos proyectos para la compañía que queremos compartir contigo. Te esperamos. \n📍 Podrás encontrarnos en el Pabellón 10\, Stand 10F04.  \n✍ Evento organizado por: IFEMA Madrid y la Federación Española de Empresas de Tecnología Sanitaria. \n🌍 Web oficial del evento.
URL:https://test.ziacom.com/actividad/expodental-2022/
LOCATION:Recinto Ferial IFEMA MADRID\, Av. del Partenón\, 5\, Madrid\, Madrid\, 28042\, España
CATEGORIES:Evento
ATTACH;FMTTYPE=image/png:https://test.ziacom.com/wp-content/uploads/2022/01/expodental2022marzo.png
END:VEVENT
BEGIN:VEVENT
DTSTART;VALUE=DATE:20220318
DTEND;VALUE=DATE:20220319
DTSTAMP:20260424T235103
CREATED:20220126T101613Z
LAST-MODIFIED:20220512T100533Z
UID:90184-1647561600-1647647999@test.ziacom.com
SUMMARY:Curso modular de Implantología 2022 con los doctores Jorge Megía y Miguel Torró
DESCRIPTION:De la mano del Prof. Dr. Jorge Megía y el Dr. Miguel Torró y Micó Colaboradores\, durante los meses comprendidos entre marzo y diciembre tendrá lugar el Curso Modular de Implantología 2022 cuyos objetivos son: \n\nAdquirir la capacidad de planificar los casos clínicos susceptibles de implantoprótesis comparando tratamientos de varias técnicas.\nAprender el uso y manejo de los diferentes elementos quirúrgicos y protésicos.\nDominar el protocolo de actuación quirúrgico y protésico de los diferentes tipos de implantoprótesis y llevar a cabo la implantología en la clínica diaria.\nRealizar 20 cirugías en pacientes en gabinetes perfectamente equipados y con todos los medios radiológicos digitales necesarios.\nRealización\, en nuestro laboratorio propio\, de las prótesis correspondientes a los pacientes operados.\n\nDetalles del curso\nMódulos: 10. \nHoras: 160. \nPlazas disponibles: 5. \nDirigido a: Odontólogos y estomatólogos que deseen iniciarse en la especialidad o aquellos que quieran contrastar técnicas y experiencias. \nLugar de celebración: Centro Odontológico Dr. Jorge Megía\, Madrid | Centro Odontológico Megía & Torró Dental\, Illescas (Toledo). \nFecha y lugar del primer módulo: 18-19 de marzo 2022\, Madrid. \nPulsa aquí para ver el programa completo y las fechas de los módulos.
URL:https://test.ziacom.com/actividad/curso-modular-implantologia/
LOCATION:Centro Odontológico Dr. Jorge Megía\, Calle O´Donnell 47\, local\, Madrid\, Madrid\, 28009\, España
CATEGORIES:Formación
ATTACH;FMTTYPE=image/png:https://test.ziacom.com/wp-content/uploads/2022/01/curso-modular-implantologia.png
ORGANIZER;CN="Ziacom":MAILTO:info@ziacom.com
END:VEVENT
BEGIN:VEVENT
DTSTART;VALUE=DATE:20220314
DTEND;VALUE=DATE:20220317
DTSTAMP:20260424T235103
CREATED:20220317T135948Z
LAST-MODIFIED:20220413T144354Z
UID:94300-1647216000-1647475199@test.ziacom.com
SUMMARY:Jornadas Implantology Day en Canarias
DESCRIPTION:Los próximos días 14\, 15 y 16 de marzo participaremos de la mano de Caser en la organización de las jornadas IMPLANTOLOGY DAY\, que tendrán lugar en sus clínicas de las islas Canarias: Caser Santa Cruz de Tenerife\, Caser Arona (Los Cristianos)\, Caser Tenerife Sur y Caser Las Palmas.  \nEn estas jornadas se mostrará a los pacientes asistentes los beneficios que el flujo digital y la cirugía guiada aportan a los tratamientos con implantes.   \nPara ello\, y con la participación de nuestro Product Manager y especialista en cirugía guiada\, se realizará a cada uno de los pacientes una primera sesión con escáner intraoral a partir de la que desarrollar una planificación digital de su tratamiento. 
URL:https://test.ziacom.com/actividad/jornadas-implantology-day-en-canarias/
ATTACH;FMTTYPE=image/png:https://test.ziacom.com/wp-content/uploads/2022/03/nuevo-ziacom-1.png
END:VEVENT
END:VCALENDAR